BEGIN:VCALENDAR
VERSION:2.0
PRODID:TU Chemnitz
METHOD:PUBLISH
X-WR-CALNAME:Veranstaltungen der TU Chemnitz
X-WR-TIMEZONE:Europe/Berlin
BEGIN:VEVENT
CLASS:PUBLIC
DTSTART;TZID="Europe/Berlin":20070926T090000
DTEND;TZID="Europe/Berlin":20070926T162000
LOCATION:Erfenschlager Str. 73\, Chemnitz
SUMMARY:1. Kolloquium des SFB 692 - Hochfeste aluminiumbasierte Leichtbauwerkstoffe für Sicherheitsbauteile (TU Chemnitz)
DESCRIPTION:Teilaspekte: Hochfestes Aluminium\, Al/Mg-Werkstoffverbunde\, AMC\, ECAP\, Werkstoffprüfung\, Prozessgestaltung\, Fügen und Finish\, Modellbildung\, Target Costing\n13 Referenten (TU Chemnitz / Fraunhofer IWU)\nDr. Thomas Lampke\, 0371-531-36163\, thomas.lampke@mb.tu-chemnitz.de
ORGANIZER:MAILTO:thomas.lampke@mb.tu-chemnitz.de
UID:9130@www.tu-chemnitz.de
CREATED:20070925T134100Z
DTSTAMP:20210802T194816Z
END:VEVENT
END:VCALENDAR
