BEGIN:VCALENDAR
VERSION:2.0
PRODID:TU Chemnitz
METHOD:PUBLISH
X-WR-CALNAME:Veranstaltungen der TU Chemnitz
X-WR-TIMEZONE:Europe/Berlin
BEGIN:VEVENT
CLASS:PUBLIC
DTSTART;TZID="Europe/Berlin":20071101T160000
DTEND;TZID="Europe/Berlin":20071101T160000
LOCATION:Straße der Nationen 62\, Hörsaal 232 (Mittelbau)
SUMMARY:Fluoreszente DNA-Modifikationen zur Untersuchung des Ladungstransfers und zur Anwendung in der DNA-Analytik (Institut für Chemie zusammen mit der Gesellschaft Deutscher Chemiker (GDCh))
DESCRIPTION:Prof. Dr. Hans-Achim Wagenknecht\, Universität Regensburg\nJuniorprofessor Dr. Matthias Lehmann\, Tel. 0371 531 31205\, Matthias.Lehmann@chemie.tu-chemnitz.de
ORGANIZER:MAILTO:Matthias.Lehmann@chemie.tu-chemnitz.de
UID:9115@www.tu-chemnitz.de
CREATED:20070923T231500Z
DTSTAMP:20210802T194628Z
END:VEVENT
END:VCALENDAR
