BEGIN:VCALENDAR
VERSION:2.0
PRODID:TU Chemnitz
METHOD:PUBLISH
X-WR-CALNAME:Veranstaltungen der TU Chemnitz
X-WR-TIMEZONE:Europe/Berlin
BEGIN:VEVENT
CLASS:PUBLIC
DTSTART;TZID="Europe/Berlin":20071025T160000
DTEND;TZID="Europe/Berlin":20071025T160000
LOCATION:Straße der Nationen 62\, Hörsaal 232 (Mittelbau)
SUMMARY:Die Rolle von Forschung und Entwicklung in einem erfolgreich restrukturierten Chemie-Unternehmen am Beispiel LANXESS (Institut für Chemie zusammen mit der Gesellschaft Deutscher Chemiker (GDCh und JCF))
DESCRIPTION:Dr. Ulrich Koemm\, LANXESS Deutschland GmbH Leverkusen\nJuniorprofessor Dr. Matthias Lehmann\, Tel. 0371 531 31205\, Matthias.Lehmann@chemie.tu-chemnitz.de
ORGANIZER:MAILTO:Matthias.Lehmann@chemie.tu-chemnitz.de
UID:9114@www.tu-chemnitz.de
CREATED:20070923T231200Z
DTSTAMP:20210802T194713Z
END:VEVENT
END:VCALENDAR
