BEGIN:VCALENDAR
VERSION:2.0
PRODID:TU Chemnitz
METHOD:PUBLISH
X-WR-CALNAME:Veranstaltungen der TU Chemnitz
X-WR-TIMEZONE:Europe/Berlin
BEGIN:VEVENT
CLASS:PUBLIC
DTSTART;TZID="Europe/Berlin":20080111T180000
DTEND;TZID="Europe/Berlin":20080112T030000
LOCATION:Reichenhainer Str. 55\, Chemnitz (Mensa)
SUMMARY:4. Chemnitzer Spielenacht (Studentenrat\, zusammen mit den Fachschaften)
DESCRIPTION:Nun schon zum 4. mal heisst es wieder "Die Spiele sind eröffnet" - jeder kann kostenlos Spiele ausleihen und das die ganze Nacht durch. Mehr Informationen folgen.
ORGANIZER:MAILTO:geni@hrz.tu-chemnitz.de
UID:9104@www.tu-chemnitz.de
CREATED:20070921T224300Z
DTSTAMP:20210802T194452Z
END:VEVENT
END:VCALENDAR
