BEGIN:VCALENDAR
VERSION:2.0
PRODID:TU Chemnitz
METHOD:PUBLISH
X-WR-CALNAME:Veranstaltungen der TU Chemnitz
X-WR-TIMEZONE:Europe/Berlin
BEGIN:VEVENT
CLASS:PUBLIC
DTSTART;TZID="Europe/Berlin":20071114T171500
DTEND;TZID="Europe/Berlin":20071114T184500
LOCATION:Reichenhainer Str. 90\, Chemnitz (Zentr. Hörsaal- und Seminargebäude)
SUMMARY:Physikalisches Kolloquium: "Massgeschneiderte magnetische Materialien" (Fakultät für Naturwissenschaften\, Institut für Physik)
DESCRIPTION:PD Dr. Jürgen Fassbender; Forschungszentrum Dresden-Rossendorf e.V.\, FWIN\nProf. Dr. Manfred Albrecht\, Tel.: 531-36831
ORGANIZER:MAILTO:michaela.knierim@physik.tu-chemnitz.de
UID:9096@www.tu-chemnitz.de
CREATED:20070919T142200Z
DTSTAMP:20210802T194643Z
END:VEVENT
END:VCALENDAR
