BEGIN:VCALENDAR
VERSION:2.0
PRODID:TU Chemnitz
METHOD:PUBLISH
X-WR-CALNAME:Veranstaltungen der TU Chemnitz
X-WR-TIMEZONE:Europe/Berlin
BEGIN:VEVENT
CLASS:PUBLIC
DTSTART;TZID="Europe/Berlin":20070912T190000
DTEND;TZID="Europe/Berlin":20070912T230000
LOCATION:Reichenhainer Str. 55\, Chemnitz (Mensa)
SUMMARY:Fussball Länderspiel
DESCRIPTION:Deutschland gegen Rumänien live auf Großleinwand
ORGANIZER:MAILTO:piek@hrz-tu-chemnitz
UID:9081@www.tu-chemnitz.de
CREATED:20070912T111600Z
DTSTAMP:20210802T194817Z
END:VEVENT
END:VCALENDAR
