BEGIN:VCALENDAR
VERSION:2.0
PRODID:TU Chemnitz
METHOD:PUBLISH
X-WR-CALNAME:Veranstaltungen der TU Chemnitz
X-WR-TIMEZONE:Europe/Berlin
BEGIN:VEVENT
CLASS:PUBLIC
DTSTART;TZID="Europe/Berlin":20070829T210000
DTEND;TZID="Europe/Berlin":20070829T210000
LOCATION:PEB Studentenkeller / RH37
SUMMARY:[PEB] - Party (PEB)
DESCRIPTION:Musik kommt von Lynch\n\nEintritt ist frei
ORGANIZER:MAILTO:mike.boddin@s2004.tu-chemnitz.de
UID:9066@www.tu-chemnitz.de
CREATED:20070829T154000Z
DTSTAMP:20210802T194839Z
END:VEVENT
END:VCALENDAR
