BEGIN:VCALENDAR
VERSION:2.0
PRODID:TU Chemnitz
METHOD:PUBLISH
X-WR-CALNAME:Veranstaltungen der TU Chemnitz
X-WR-TIMEZONE:Europe/Berlin
BEGIN:VEVENT
CLASS:PUBLIC
DTSTART;TZID="Europe/Berlin":20070830T200000
DTEND;TZID="Europe/Berlin":20070830T235900
LOCATION:Reichenhainer Str. 55\, Chemnitz (Mensa)
SUMMARY:99er Kneipe und Fussball
DESCRIPTION:UEFA Cup Rückspiel Hamburge gegen Budapest...\nDie Hamburger brauchen unbedingt ein Sieg um in den  UEFA Pokal einzuziehen...
ORGANIZER:MAILTO:piek@hrz-tu-chemnitz
UID:9062@www.tu-chemnitz.de
CREATED:20070828T162900Z
DTSTAMP:20210802T194839Z
END:VEVENT
END:VCALENDAR
