BEGIN:VCALENDAR
VERSION:2.0
PRODID:TU Chemnitz
METHOD:PUBLISH
X-WR-CALNAME:Veranstaltungen der TU Chemnitz
X-WR-TIMEZONE:Europe/Berlin
BEGIN:VEVENT
CLASS:PUBLIC
DTSTART;TZID="Europe/Berlin":20070819T163000
DTEND;TZID="Europe/Berlin":20070819T190000
LOCATION:Reichenhainer Str. 55\, Chemnitz (Mensa)
SUMMARY:Fussball Bundesliga live
DESCRIPTION:Sonntagsbierchen und Fußball live\nbeide Sonntagsspiele in Konferenz Cottbus gegen Bochum und Hamburg gegen Leverkusen
ORGANIZER:MAILTO:piek@hrz-tu-chemnitz
UID:9056@www.tu-chemnitz.de
CREATED:20070817T151900Z
DTSTAMP:20210802T194843Z
END:VEVENT
END:VCALENDAR
