BEGIN:VCALENDAR
VERSION:2.0
PRODID:TU Chemnitz
METHOD:PUBLISH
X-WR-CALNAME:Veranstaltungen der TU Chemnitz
X-WR-TIMEZONE:Europe/Berlin
BEGIN:VEVENT
CLASS:PUBLIC
DTSTART;TZID="Europe/Berlin":20070905T134500
DTEND;TZID="Europe/Berlin":20070905T151500
LOCATION:Reichenhainer Str. 90\, Chemnitz (Zentr. Hörsaal- und Seminargebäude)
SUMMARY:Kursreihe SW-Tools: "MySQL" (Teil 3) (Universitätsrechenzentrum)
DESCRIPTION:Teil 3; anschliessendes Praktikum 15:30-16:00 Uhr in der RH 70\, Raum 2/B302 empfohlen\n(Vorschau: letzter Teil am 12.09.)\nDipl.-Inf. (FH) Dietmar Grunewald
ORGANIZER:MAILTO:rosita.pudlat@hrz.tu-chemnitz.de
UID:9030@www.tu-chemnitz.de
CREATED:20070723T142700Z
DTSTAMP:20210802T194812Z
END:VEVENT
END:VCALENDAR
