BEGIN:VCALENDAR
VERSION:2.0
PRODID:TU Chemnitz
METHOD:PUBLISH
X-WR-CALNAME:Veranstaltungen der TU Chemnitz
X-WR-TIMEZONE:Europe/Berlin
BEGIN:VEVENT
CLASS:PUBLIC
DTSTART;TZID="Europe/Berlin":20070925T173000
DTEND;TZID="Europe/Berlin":20070925T183000
LOCATION:ZFG - Zentrum für Fitness und Gesundheit (Reichenhainer Str. 31-33)
SUMMARY:Step-Aerobic / Mitarbeiter ( Institut für Sportwissenschaft)
DESCRIPTION:Ein intensives\, gelenkschonendes\, aerobes Fitnesstraining mit Schrittkombinationen auf dem Step\, bei dem große Muskelgruppen beansprucht werden. (Kurs nur für Mitarbeiter!)\nChristina Marquardt\nDr. Manuela Trillitzsch
ORGANIZER:MAILTO:manuela.trillitzsch@phil.tu-chemnitz.de
UID:9019@www.tu-chemnitz.de
CREATED:20070719T204600Z
DTSTAMP:20210802T194811Z
END:VEVENT
END:VCALENDAR
