BEGIN:VCALENDAR
VERSION:2.0
PRODID:TU Chemnitz
METHOD:PUBLISH
X-WR-CALNAME:Veranstaltungen der TU Chemnitz
X-WR-TIMEZONE:Europe/Berlin
BEGIN:VEVENT
CLASS:PUBLIC
DTSTART;TZID="Europe/Berlin":20000106T160000
DTEND;TZID="Europe/Berlin":20000107T160000
LOCATION:Uni-Teil 3: Reichenhainer Str. 70\, Chemnitz (Rühlmann-Bau)
SUMMARY:Workshop on Structured Matrices (Fakultät für Mathematik\, Sonderforschungsbereich 393)
DESCRIPTION:Dr. Karla Rost - karla.rost@mathematik.tu-chemnitz.de\, Prof. V. Mehrmann - mehrmann@mathematik.tu-chemnitz.de
ORGANIZER:MAILTO:matt@mathematik.tu-chemnitz.de
UID:899@www.tu-chemnitz.de
CREATED:19991220T103200Z
DTSTAMP:20210802T203232Z
END:VEVENT
END:VCALENDAR
