BEGIN:VCALENDAR
VERSION:2.0
PRODID:TU Chemnitz
METHOD:PUBLISH
X-WR-CALNAME:Veranstaltungen der TU Chemnitz
X-WR-TIMEZONE:Europe/Berlin
BEGIN:VEVENT
CLASS:PUBLIC
DTSTART;TZID="Europe/Berlin":20070723T080000
DTEND;TZID="Europe/Berlin":20070727T150000
LOCATION:Reichenhainer Str. 70\, Chemnitz (Weinhold-Bau)
SUMMARY:Lernzentrum des CreativCenter Chemnitz: Lehrerfortbildung (Fakultät für Maschinenbau\, CreativCenter Chemnitz)
DESCRIPTION:Lehrerfortbildung in Zusammenarbeit mit dem Kooperationspartner des Lernzentrums - Wirtschaftsförderung Erzgebirge GmbH - in Annaberg und Chemnitz.\nMitarbeiterinnen und Mitarbeiter der Fakultäten der Technischen Universität Chemnitz\, Studien- und Lernberater\nE-Mail: ccc@mb.tu-chemnitz.de
ORGANIZER:MAILTO:jana.voigt@mb.tu-chemnitz.de
UID:8989@www.tu-chemnitz.de
CREATED:20070718T152600Z
DTSTAMP:20210802T194859Z
END:VEVENT
END:VCALENDAR
