BEGIN:VCALENDAR
VERSION:2.0
PRODID:TU Chemnitz
METHOD:PUBLISH
X-WR-CALNAME:Veranstaltungen der TU Chemnitz
X-WR-TIMEZONE:Europe/Berlin
BEGIN:VEVENT
CLASS:PUBLIC
DTSTART;TZID="Europe/Berlin":20000118T153000
DTEND;TZID="Europe/Berlin":20000118T153000
LOCATION:IPMT/TIDZ der Gesellschaft für Forschung und Entwicklung e.V. Chemnitz\, Lassallestraße 14 in Chemnitz-Siegmar
SUMMARY:"Schadensfälle an Werkzeugen - Ursachen und Auswirkungen unter besonderer Berücksichtigung der Wärmbehandlung" (Fakultät für Maschinenbau und Verfahrenstechnik\, AWT/VDI-Arbeitskreis Wärmbehandlung und Werkstofftechnik Chemnitz/Freiberg)
DESCRIPTION:Dipl.-Ing. Gerhard Kientopf\, UDDEHOLM GmbH Düsseldorf\nDipl.-Ing. Ulrich Thieme\, Tel. 0371/3363222
ORGANIZER:MAILTO:iroe@hrz.tu-chemnitz.de
UID:892@www.tu-chemnitz.de
CREATED:19991214T111900Z
DTSTAMP:20210802T203230Z
END:VEVENT
END:VCALENDAR
