BEGIN:VCALENDAR
VERSION:2.0
PRODID:TU Chemnitz
METHOD:PUBLISH
X-WR-CALNAME:Veranstaltungen der TU Chemnitz
X-WR-TIMEZONE:Europe/Berlin
BEGIN:VEVENT
CLASS:PUBLIC
DTSTART;TZID="Europe/Berlin":20000120T183000
DTEND;TZID="Europe/Berlin":20000120T183000
LOCATION:Uni-Teil 3: Reichenhainer Str. 70\, Chemnitz (Zentr. Hörsaal- und Seminargebäude)
SUMMARY:"Die russischen Streitkräfte - Stabilitätsfaktor oder Pulverfass?" (TU Chemnitz\, Dresdner Gesprächskreis der Wirtschaft und der Wissenschaft und Verteidigungsbezirkskommando 75)
DESCRIPTION:Der Vortrag enthält einen Situationsbericht über den\nZustand der russischen Streitkräfte und ihre heutigen \nGrobstrukturen\, einen Blick auf die derzeitige sicher-\nheitspolitische Konzeption und die begonnenen Militär-\nreformen.\nGeneralmajor a.D. Gerd Schultze-Rhonhof\, Buxtehude\nMario Steinebach\, 0371/531-1424\, pressestelle@tu-chemnitz.de
ORGANIZER:MAILTO:mstein@hrz.tu-chemnitz.de
UID:888@www.tu-chemnitz.de
CREATED:19991213T133100Z
DTSTAMP:20210802T203232Z
END:VEVENT
END:VCALENDAR
