BEGIN:VCALENDAR
VERSION:2.0
PRODID:TU Chemnitz
METHOD:PUBLISH
X-WR-CALNAME:Veranstaltungen der TU Chemnitz
X-WR-TIMEZONE:Europe/Berlin
BEGIN:VEVENT
CLASS:PUBLIC
DTSTART;TZID="Europe/Berlin":20080430T150000
DTEND;TZID="Europe/Berlin":20080504T160000
LOCATION:Reichenhainer Str. 90\, Chemnitz (Zentr. Hörsaal- und Seminargebäude)
SUMMARY:Bundesfachschaftstagung - FaTaMa (TU Chemnitz\,  Fachschaftsrat Maschinenbau)
DESCRIPTION:FaTaMa ist die Abkürzung für Fachschaftentagung Maschinenbau. Bis dato wurde ein Netzwerk im deutschsprachigen Hochschulraum (Deutschland\, Österreich\, Schweiz) geschaffen\, von dem wir jedoch hoffen\, es auf ganz Europa ausweiten zu können.\n0371 - 531 16300
ORGANIZER:MAILTO:onk@hrz.tu-chemnitz.de
UID:8863@www.tu-chemnitz.de
CREATED:20070704T083800Z
DTSTAMP:20210802T194242Z
END:VEVENT
END:VCALENDAR
