BEGIN:VCALENDAR
VERSION:2.0
PRODID:TU Chemnitz
METHOD:PUBLISH
X-WR-CALNAME:Veranstaltungen der TU Chemnitz
X-WR-TIMEZONE:Europe/Berlin
BEGIN:VEVENT
CLASS:PUBLIC
DTSTART;TZID="Europe/Berlin":20000224T090000
DTEND;TZID="Europe/Berlin":20000301T180000
LOCATION:Messegelände Hannover\, Halle 16\, Stand B23
SUMMARY:Messe CeBIT 2000 in Hannover (Fakultät für Elektrotechnik und Informationstechnik & Fakultät für Informatik)
DESCRIPTION:Exponat der Professur Daten- und Kommunikationstechnik:\n"Emulation von High-Speed-Kommunikationsnetzen"\nExponat der Professur Datenverwaltungssysteme:\n"ICIx - ein semantik-orientierter Index für multidimensionale Datenbanken"\nDietrich Taubert\, Wissenschaftliche Dienste\, Telefon: 0371/531-1327\, e-mail: technologietransfer@tu-chemnitz.de
ORGANIZER:MAILTO:dta@hrz.tu-chemnitz.de
UID:886@www.tu-chemnitz.de
CREATED:19991208T105000Z
DTSTAMP:20210802T203219Z
END:VEVENT
END:VCALENDAR
