BEGIN:VCALENDAR
VERSION:2.0
PRODID:TU Chemnitz
METHOD:PUBLISH
X-WR-CALNAME:Veranstaltungen der TU Chemnitz
X-WR-TIMEZONE:Europe/Berlin
BEGIN:VEVENT
CLASS:PUBLIC
DTSTART;TZID="Europe/Berlin":20070705T190000
DTEND;TZID="Europe/Berlin":20070705T203000
LOCATION:Reichenhainer Str. 90\, Chemnitz (Zentr. Hörsaal- und Seminargebäude)
SUMMARY:Paragraph 175 - Geschichte\, Auswirkungen\, Lehren (Grüne und Rote Hochschulgruppe)
DESCRIPTION:Über lange Jahre hinweg war Homosexualität in der Bundesrepublik Deutschland und der DDR verboten. Um dieses Unrecht darzustellen und die Folgen zu verdeutlichen\, findet am 05.07.07 ab 19.00 Uhr in der TU Chemnitz diese Veranstaltung statt.\nEduard Stapel (ehe. Sprecher des LSVD)
ORGANIZER:MAILTO:Martin.Schmidt@s2004.tu-chemnitz.de
UID:8859@www.tu-chemnitz.de
CREATED:20070702T180300Z
DTSTAMP:20210802T194902Z
END:VEVENT
END:VCALENDAR
