BEGIN:VCALENDAR
VERSION:2.0
PRODID:TU Chemnitz
METHOD:PUBLISH
X-WR-CALNAME:Veranstaltungen der TU Chemnitz
X-WR-TIMEZONE:Europe/Berlin
BEGIN:VEVENT
CLASS:PUBLIC
DTSTART;TZID="Europe/Berlin":19991211T100000
DTEND;TZID="Europe/Berlin":19991211T120000
LOCATION:Internationales Kultur- und Begnungszentrum (Bahnhofstr. 8)
SUMMARY:Günter Saalmann - Lesung (Philosophische Fakultät\, Germanistik)
DESCRIPTION:Der Kinder- und Jugendbuchautor Günter Saalmann liest in der Reihe Literatur LIVE. Ein Erlebnis für Junge und Junggebliebene.\nAhnert\, Tel.: 3560666\, mirko.ahnert@phil.tu-chemnitz.de
ORGANIZER:MAILTO:mah@hrz.tu-chemnitz.de
UID:885@www.tu-chemnitz.de
CREATED:19991206T211200Z
DTSTAMP:20210802T203246Z
END:VEVENT
END:VCALENDAR
