BEGIN:VCALENDAR
VERSION:2.0
PRODID:TU Chemnitz
METHOD:PUBLISH
X-WR-CALNAME:Veranstaltungen der TU Chemnitz
X-WR-TIMEZONE:Europe/Berlin
BEGIN:VEVENT
CLASS:PUBLIC
DTSTART;TZID="Europe/Berlin":20070710T190000
DTEND;TZID="Europe/Berlin":20070710T210000
LOCATION:Reichenhainer Str. 70\, Chemnitz (Rühlmann-Bau)
SUMMARY:Filmvorführung (Grüne Hochschulgruppe)
DESCRIPTION:UNSER TÄGLICH BROT ist eine filmische Meditation über die Welt der industriellen Nahrungsmittelproduktion. Zum Rhythmus von Fließbändern und riesigen Maschinen zeigt der Film Orte\, an denen Nahrungsmittel produziert werden.
ORGANIZER:MAILTO:ulrike.buergel@s2005.tu-chemnitz.de
UID:8844@www.tu-chemnitz.de
CREATED:20070628T200100Z
DTSTAMP:20210802T194854Z
END:VEVENT
END:VCALENDAR
