BEGIN:VCALENDAR
VERSION:2.0
PRODID:TU Chemnitz
METHOD:PUBLISH
X-WR-CALNAME:Veranstaltungen der TU Chemnitz
X-WR-TIMEZONE:Europe/Berlin
BEGIN:VEVENT
CLASS:PUBLIC
DTSTART;TZID="Europe/Berlin":20070627T163000
DTEND;TZID="Europe/Berlin":20070627T173000
LOCATION:ZFG - Zentrum für Fitness und Gesundheit (Reichenhainer Str. 31-33)
SUMMARY:Gesundheitsorientiertes Fitnesstraining / Mitarbeiter–Anfängerkurs (Universitätssportzentrum)
DESCRIPTION:Es werden die Grundlagen des Trainings und der Gerätekunde an Fitnessgeräten erarbeitet. Der Kurs dient der Befähigung zum selbstständigen Training.\n(Kurs nur für Mitarbeiter!)\nStephanie Holzapfel\nDr. Manuela Trillitzsch
ORGANIZER:MAILTO:manuela.trillitzsch@phil.tu-chemnitz.de
UID:8805@www.tu-chemnitz.de
CREATED:20070621T192200Z
DTSTAMP:20210802T194919Z
END:VEVENT
END:VCALENDAR
