BEGIN:VCALENDAR
VERSION:2.0
PRODID:TU Chemnitz
METHOD:PUBLISH
X-WR-CALNAME:Veranstaltungen der TU Chemnitz
X-WR-TIMEZONE:Europe/Berlin
BEGIN:VEVENT
CLASS:PUBLIC
DTSTART;TZID="Europe/Berlin":19991214T183000
DTEND;TZID="Europe/Berlin":19991214T200000
LOCATION:Uni-Teil 9: Wilhelm-Raabe-Str. 43\, Chemnitz
SUMMARY:"Psychotherapie - Stiefkind der Medizin?" - Zur Zukunft der ambulanten Psychotherapie - Podiumsdiskussion (Philosophische Fakultät\, Allgemeine und Arbeitspsychologie)
DESCRIPTION:Moderation: Prof. Dr. Krems\, Allg. und Arbeitspsychologie\, Dekan der Phil. Fakultät\nProf. Dr. Josef F. Krems\, 0371-531-6421\, e-mail: krems@phil.tu-chemnitz.de
ORGANIZER:MAILTO:cuh@hrz.tu-chemnitz.de
UID:880@www.tu-chemnitz.de
CREATED:19991206T143000Z
DTSTAMP:20210802T203246Z
END:VEVENT
END:VCALENDAR
