BEGIN:VCALENDAR
VERSION:2.0
PRODID:TU Chemnitz
METHOD:PUBLISH
X-WR-CALNAME:Veranstaltungen der TU Chemnitz
X-WR-TIMEZONE:Europe/Berlin
BEGIN:VEVENT
CLASS:PUBLIC
DTSTART;TZID="Europe/Berlin":20070621T200000
DTEND;TZID="Europe/Berlin":20070621T220000
LOCATION:Vettersstr. 64/66\, Chemnitz (Studentenwohnheim)
SUMMARY:TU-Chemnitz und St.V. Teutonia - ein großes Stück gemeinsame Geschichte (St. V. Teutonia zu Chemnitz und Gummersbach im BDIC)
DESCRIPTION:Brandungsvortrag unser Füxe mit anschließender Brandung\nInteressenten sind herzlich eingeladen\n\nwww.teutonenweb.de\nmaat@teutonenweb.de
ORGANIZER:MAILTO:witsm@hrz.tu-chemnitz.de
UID:8790@www.tu-chemnitz.de
CREATED:20070619T132600Z
DTSTAMP:20210802T194910Z
END:VEVENT
END:VCALENDAR
