BEGIN:VCALENDAR
VERSION:2.0
PRODID:TU Chemnitz
METHOD:PUBLISH
X-WR-CALNAME:Veranstaltungen der TU Chemnitz
X-WR-TIMEZONE:Europe/Berlin
BEGIN:VEVENT
CLASS:PUBLIC
DTSTART;TZID="Europe/Berlin":20070628T171500
DTEND;TZID="Europe/Berlin":20070628T184500
LOCATION:Reichenhainer Str. 39\, Chemnitz
SUMMARY:Sitzung des FSR Phil (Philosophische Fakultät\, FSR Phil)
DESCRIPTION:Details folgen noch... Gäste sind wie immer willkommen!\nFSR Phil\nfsrphil@tu-chemnitz.de
ORGANIZER:MAILTO:gens@hrz.tu-chemnitz.de
UID:8787@www.tu-chemnitz.de
CREATED:20070619T112800Z
DTSTAMP:20210802T194911Z
END:VEVENT
END:VCALENDAR
