BEGIN:VCALENDAR
VERSION:2.0
PRODID:TU Chemnitz
METHOD:PUBLISH
X-WR-CALNAME:Veranstaltungen der TU Chemnitz
X-WR-TIMEZONE:Europe/Berlin
BEGIN:VEVENT
CLASS:PUBLIC
DTSTART;TZID="Europe/Berlin":20070623T200000
DTEND;TZID="Europe/Berlin":20070623T213000
LOCATION:Schauspielhaus Chemnitz\, Zieschestr.
SUMMARY:Farm der Tiere (Schauspielhaus Chemnitz)
DESCRIPTION:Schauspiel von George Orwell. Es spielt der Theaterjugendclub.
ORGANIZER:MAILTO:ivonne.fischer@s2000.tu-chemnitz.de
UID:8762@www.tu-chemnitz.de
CREATED:20070612T210300Z
DTSTAMP:20210802T194918Z
END:VEVENT
END:VCALENDAR
