BEGIN:VCALENDAR
VERSION:2.0
PRODID:TU Chemnitz
METHOD:PUBLISH
X-WR-CALNAME:Veranstaltungen der TU Chemnitz
X-WR-TIMEZONE:Europe/Berlin
BEGIN:VEVENT
CLASS:PUBLIC
DTSTART;TZID="Europe/Berlin":20070613T190000
DTEND;TZID="Europe/Berlin":20070613T190000
LOCATION:Agricola-Gymnasium\, Park der Opfer des Faschismus 1\, 09111 Chemnitz
SUMMARY:Meine Geschichte der DDR (Rosa-Luxemburg Stiftung Sachsen\, Rothaus e.V. \,Thalia-Buchhandlung Chemnitz)
DESCRIPTION:Der Ehrendoktor der TU Chemnitz Wolfgang Leonhard \nbeschreibt die Geschichte des Staates\, dessen\nGründungsideale er teilte und dem er enttäuscht\nden Rücken kehrte.\nDer erstrangige Rückblick eines Jahrhundertzeugen.\nWolfgang Leonhard Moderation: Dr. Werner Abel\nInfo 0371/5382718 | Eintritt 5\,-€ / 3\,-€
ORGANIZER:MAILTO:tki@hrz.tu-chemnitz.de
UID:8761@www.tu-chemnitz.de
CREATED:20070612T155600Z
DTSTAMP:20210802T194914Z
END:VEVENT
END:VCALENDAR
