BEGIN:VCALENDAR
VERSION:2.0
PRODID:TU Chemnitz
METHOD:PUBLISH
X-WR-CALNAME:Veranstaltungen der TU Chemnitz
X-WR-TIMEZONE:Europe/Berlin
BEGIN:VEVENT
CLASS:PUBLIC
DTSTART;TZID="Europe/Berlin":20070717T200000
DTEND;TZID="Europe/Berlin":20070717T235900
LOCATION:Club der Kulturen (Kompass)
SUMMARY:Faces of Jazz (Club der Kulturen (Kompass))
DESCRIPTION:Musikalischer Höhepunkt zum Semesterabschluß mit dem Chemnitzer Projekt "STILLEBEN" rund um den weltbekannten Gitarristen Joe Sachse & offene Jam Session\, Freigetränk für jeden Mitspieler.\nStilleben (mit Joe Sachse)\nMark Schreiber\, 34254\, mark.schreiber@phil.tu-chemnitz.de
ORGANIZER:MAILTO:mark.schreiber@phil.tu-chemnitz.de
UID:8757@www.tu-chemnitz.de
CREATED:20070611T152200Z
DTSTAMP:20210802T194854Z
END:VEVENT
END:VCALENDAR
