BEGIN:VCALENDAR
VERSION:2.0
PRODID:TU Chemnitz
METHOD:PUBLISH
X-WR-CALNAME:Veranstaltungen der TU Chemnitz
X-WR-TIMEZONE:Europe/Berlin
BEGIN:VEVENT
CLASS:PUBLIC
DTSTART;TZID="Europe/Berlin":20070614T190000
DTEND;TZID="Europe/Berlin":20070614T235900
LOCATION:Reichenhainer Str. 55\, Chemnitz (Mensa)
SUMMARY:Tischtennisturnier
DESCRIPTION:Turnier für Vereinsspieler Anmeldung an der TaC Bar\nzusätzlich stellen wir zwei Platten zum üben zur Verfügung
ORGANIZER:MAILTO:piek@hrz.tu-chemnitz.de
UID:8740@www.tu-chemnitz.de
CREATED:20070611T120300Z
DTSTAMP:20210802T194910Z
END:VEVENT
END:VCALENDAR
