BEGIN:VCALENDAR
VERSION:2.0
PRODID:TU Chemnitz
METHOD:PUBLISH
X-WR-CALNAME:Veranstaltungen der TU Chemnitz
X-WR-TIMEZONE:Europe/Berlin
BEGIN:VEVENT
CLASS:PUBLIC
DTSTART;TZID="Europe/Berlin":20070703T171500
DTEND;TZID="Europe/Berlin":20070703T184500
LOCATION:Wilhelm-Raabe-Str. 43\, Chemnitz
SUMMARY:Forschungskolloquium Psychologie (Philosophische Fakultät\, Forschungsmethodik und Evaluation)
DESCRIPTION:"Moralische Emotionen: Was sind Moralische Emotionen\, wie entstehen sie\, und wozu sind sie gut?"\nProf. Dr. Udo Rudolph\, TU Chemnitz\, Inst. für Psychologie\nSekretariat\, Tel. 531 36420
ORGANIZER:MAILTO:TU Chemnitz
UID:8682@www.tu-chemnitz.de
CREATED:20070529T101100Z
DTSTAMP:20210802T194857Z
END:VEVENT
END:VCALENDAR
