BEGIN:VCALENDAR
VERSION:2.0
PRODID:TU Chemnitz
METHOD:PUBLISH
X-WR-CALNAME:Veranstaltungen der TU Chemnitz
X-WR-TIMEZONE:Europe/Berlin
BEGIN:VEVENT
CLASS:PUBLIC
DTSTART;TZID="Europe/Berlin":20070612T171500
DTEND;TZID="Europe/Berlin":20070612T184500
LOCATION:Wilhelm-Raabe-Str. 43\, Chemnitz
SUMMARY:Forschungskolloquium Psychologie (TU Chemnitz\, Forschungsmethodik und Evaluation)
DESCRIPTION:"Rede\, Vortrag\, Referat - ein Horror! ... oder was denken Sie? Wie Gedanken mit sozialer Angst zusammenhängen."\nDipl.-Psych. Stefan M. Schulz\, Universität Würzburg\nSekretariat\, Tel. 531 36420
ORGANIZER:MAILTO:TU Chemnitz
UID:8680@www.tu-chemnitz.de
CREATED:20070529T100700Z
DTSTAMP:20210802T194912Z
END:VEVENT
END:VCALENDAR
