BEGIN:VCALENDAR
VERSION:2.0
PRODID:TU Chemnitz
METHOD:PUBLISH
X-WR-CALNAME:Veranstaltungen der TU Chemnitz
X-WR-TIMEZONE:Europe/Berlin
BEGIN:VEVENT
CLASS:PUBLIC
DTSTART;TZID="Europe/Berlin":20070531T171500
DTEND;TZID="Europe/Berlin":20070531T184500
LOCATION:Reichenhainer Str. 39\, Chemnitz
SUMMARY:Sitzung des FSR Phil (Philosophische Fakultät\, FSR Phil)
DESCRIPTION:Abschließende Besprechung der Party vom 22.5.\nVorbereitung O-Phase.\nGäste sind wie immer willkommen!\nFSR Phil\nfsrmb@tu-chemnitz.de
ORGANIZER:MAILTO:gens@hrz.tu-chemnitz.de
UID:8673@www.tu-chemnitz.de
CREATED:20070526T140000Z
DTSTAMP:20210802T194936Z
END:VEVENT
END:VCALENDAR
