BEGIN:VCALENDAR
VERSION:2.0
PRODID:TU Chemnitz
METHOD:PUBLISH
X-WR-CALNAME:Veranstaltungen der TU Chemnitz
X-WR-TIMEZONE:Europe/Berlin
BEGIN:VEVENT
CLASS:PUBLIC
DTSTART;TZID="Europe/Berlin":20070531T193000
DTEND;TZID="Europe/Berlin":20070531T233000
LOCATION:Reichenhainer Str. 55\, Chemnitz (Mensa)
SUMMARY:Unifilm - Cars ~In Originalsprache~ (Unifilm Chemnitz im TaC)
DESCRIPTION:Lightning McQueen\, ein Teufelskerl von Rennwagen mit völlig überdrehtem Ego\, der davon träumt\, der jüngste Champion zu werden. \nA high-octane adventure comedy that shows life is about the journey\, not the finish line. \nEinlass 1930 | Beginn 2100 | 1.50€
ORGANIZER:MAILTO:frank.scheibner@s2003.tu-chemnitz.de
UID:8670@www.tu-chemnitz.de
CREATED:20070524T214800Z
DTSTAMP:20210802T194933Z
END:VEVENT
END:VCALENDAR
