BEGIN:VCALENDAR
VERSION:2.0
PRODID:TU Chemnitz
METHOD:PUBLISH
X-WR-CALNAME:Veranstaltungen der TU Chemnitz
X-WR-TIMEZONE:Europe/Berlin
BEGIN:VEVENT
CLASS:PUBLIC
DTSTART;TZID="Europe/Berlin":20070530T110000
DTEND;TZID="Europe/Berlin":20070530T150000
LOCATION:Reichenhainer Str. 90\, Chemnitz (Zentr. Hörsaal- und Seminargebäude)
SUMMARY:Einweihung des Future Trucks der TU Chemnitz (Fakultät für Maschinenbau\, CreativCenter Chemnitz)
DESCRIPTION:Feierliche Einweihung des Future Trucks der TU Chemnitz und öffentliche Präsentation des Lernzentrum CreativCenter Chemnitz\nKultusminister Steffen Flath\, Rektor Prof. Matthes\, Kanzler Herr Alles\, Prof. Schöne
ORGANIZER:MAILTO:franziska.freund@mb.tu-chemnitz.de
UID:8667@www.tu-chemnitz.de
CREATED:20070524T180700Z
DTSTAMP:20210802T194943Z
END:VEVENT
END:VCALENDAR
