BEGIN:VCALENDAR
VERSION:2.0
PRODID:TU Chemnitz
METHOD:PUBLISH
X-WR-CALNAME:Veranstaltungen der TU Chemnitz
X-WR-TIMEZONE:Europe/Berlin
BEGIN:VEVENT
CLASS:PUBLIC
DTSTART;TZID="Europe/Berlin":20070525T210000
DTEND;TZID="Europe/Berlin":20070525T235900
LOCATION:* Bunker-Club * Rosenplatz 7 * gleich am Campus *
SUMMARY:Live: EARTHBEND
DESCRIPTION:Gerader Rock ohne viel Schnickschnack. Bei EARTHBEND besteht akute Ohrwurm- und in diesem Zusammenhang auch Suchtgefahr. Schlicht einzigartige Rockmusik mit eingängigen Melodien a la Genesis und atmosphärischen Hymnen wie bei Pink Floyd...\nwww.eartbend.de
ORGANIZER:MAILTO:schneide@hrz.tu-chemnitz.de
UID:8664@www.tu-chemnitz.de
CREATED:20070523T185200Z
DTSTAMP:20210802T194943Z
END:VEVENT
END:VCALENDAR
