BEGIN:VCALENDAR
VERSION:2.0
PRODID:TU Chemnitz
METHOD:PUBLISH
X-WR-CALNAME:Veranstaltungen der TU Chemnitz
X-WR-TIMEZONE:Europe/Berlin
BEGIN:VEVENT
CLASS:PUBLIC
DTSTART;TZID="Europe/Berlin":20070601T100000
DTEND;TZID="Europe/Berlin":20070602T180000
LOCATION:Wilhelm-Raabe-Str. 43\, Chemnitz
SUMMARY:Soft-Skill Seminar: "Zeitmanagement und Arbeitsorganisation" (Philosophische Fakultät\, Professur für Persönlichkeitspsychologie und Diagnostik)
DESCRIPTION:Das Modul behandelt das Setzen von kurz- und langfristigen Zielen\, Techniken der Planung und Möglichkeiten der Stressbewältigung. Theoretische Inhalte werden durch praktische Übungen ergänzt. Eine Anmeldung per Mail ist absolut erforderlich!\nProf. Dr. Astrid Schütz\, Dipl.-Psych. Aline Vater\, André Körner\, Konstanze Wolter\, Institut für Psychologie\nandrk@hrz.tu-chemnitz.de
ORGANIZER:MAILTO:andrk@hrz.tu-chemnitz.de
UID:8659@www.tu-chemnitz.de
CREATED:20070522T113600Z
DTSTAMP:20210802T194921Z
END:VEVENT
END:VCALENDAR
