BEGIN:VCALENDAR
VERSION:2.0
PRODID:TU Chemnitz
METHOD:PUBLISH
X-WR-CALNAME:Veranstaltungen der TU Chemnitz
X-WR-TIMEZONE:Europe/Berlin
BEGIN:VEVENT
CLASS:PUBLIC
DTSTART;TZID="Europe/Berlin":20070607T200000
DTEND;TZID="Europe/Berlin":20070607T235500
LOCATION:Club der Kulturen (Kompass)
SUMMARY:Elektrisch LESEN - Aural Dazzling (Radio UNiCC und CdK)
DESCRIPTION:\nEin elektronischer Teppich\, ausgerollt von Frank Siegel (Delay Radio UNiCC) empfängt gelesenen Text!\nWegbereiter á la Rainald Götz und das Label Modul8 umrahmen eine Impro-Performance mit ausgewählten Lesern.
ORGANIZER:MAILTO:isabel.knoch@2004.tu-chemnitz.de
UID:8648@www.tu-chemnitz.de
CREATED:20070517T130200Z
DTSTAMP:20210802T194921Z
END:VEVENT
END:VCALENDAR
