BEGIN:VCALENDAR
VERSION:2.0
PRODID:TU Chemnitz
METHOD:PUBLISH
X-WR-CALNAME:Veranstaltungen der TU Chemnitz
X-WR-TIMEZONE:Europe/Berlin
BEGIN:VEVENT
CLASS:PUBLIC
DTSTART;TZID="Europe/Berlin":20070605T190000
DTEND;TZID="Europe/Berlin":20070605T203000
LOCATION:Reichenhainer Str. 90\, Chemnitz (Zentr. Hörsaal- und Seminargebäude)
SUMMARY:Geisteswissenschaftler in die Wirtschaft - Sprache und Kommunikation in der "harten" Unternehmenswelt (Philosophische Fakultät\, Sprache - Medien - Praxis)
DESCRIPTION:Edelgard Vacek (Sindelfingen)\, Beraterin\, MBtech Consulting GmbH
ORGANIZER:MAILTO:ruth.geier@phil.tu-chemnitz.de
UID:8636@www.tu-chemnitz.de
CREATED:20070514T125900Z
DTSTAMP:20210802T194914Z
END:VEVENT
END:VCALENDAR
