BEGIN:VCALENDAR
VERSION:2.0
PRODID:TU Chemnitz
METHOD:PUBLISH
X-WR-CALNAME:Veranstaltungen der TU Chemnitz
X-WR-TIMEZONE:Europe/Berlin
BEGIN:VEVENT
CLASS:PUBLIC
DTSTART;TZID="Europe/Berlin":20070516T173000
DTEND;TZID="Europe/Berlin":20070516T183000
LOCATION:Wilhelm-Raabe-Str. 43\, Chemnitz
SUMMARY:Workshop: Zeitmanagement und Arbeitsorganisation (Philosophische Fakultät\, Persönlichkeitspsychologie)
DESCRIPTION:Studien- und Berufserfolg ist insbesondere von erfolgreichem Zeitmanagement und effizienter Arbeitsorganisation abhängig. Das Modul behandelt das Setzen von kurz- und langfristigen Zielen\, Techniken der Planung und Möglichkeiten der Stressbewältigung.\nDipl. Psych. Aline Vater\nWorkshop - Anmeldung erforderlich (30 Teilnehmer). Prof. Dr. Astrid Schütz\, Tel.: 531-36366\, astrid.schuetz@phil.tu-chemnitz.de
ORGANIZER:MAILTO:bde@hrz.tu-chemnitz.de
UID:8627@www.tu-chemnitz.de
CREATED:20070510T090000Z
DTSTAMP:20210802T194943Z
END:VEVENT
END:VCALENDAR
