BEGIN:VCALENDAR
VERSION:2.0
PRODID:TU Chemnitz
METHOD:PUBLISH
X-WR-CALNAME:Veranstaltungen der TU Chemnitz
X-WR-TIMEZONE:Europe/Berlin
BEGIN:VEVENT
CLASS:PUBLIC
DTSTART;TZID="Europe/Berlin":20070511T190000
DTEND;TZID="Europe/Berlin":20070511T230000
LOCATION:Club-der-Kulturen\, Kompass
SUMMARY:Ein Jahr Irkutsk (Russisch-Club)
DESCRIPTION:Irkutsk am Baikalsee galt einst als "Paris Sibiriens" - wie es heute in der Stadt aussieht und was man dort erleben kann\, berichtet in Worten und Bildern Europastudent Markus Winter\, der zwei Semester in Irkutsk studiert hat.\nMarkus Winter
ORGANIZER:MAILTO:vtz@hrz.tu-chemnitz.de
UID:8624@www.tu-chemnitz.de
CREATED:20070509T155000Z
DTSTAMP:20210802T194936Z
END:VEVENT
END:VCALENDAR
