BEGIN:VCALENDAR
VERSION:2.0
PRODID:TU Chemnitz
METHOD:PUBLISH
X-WR-CALNAME:Veranstaltungen der TU Chemnitz
X-WR-TIMEZONE:Europe/Berlin
BEGIN:VEVENT
CLASS:PUBLIC
DTSTART;TZID="Europe/Berlin":19991217T100000
DTEND;TZID="Europe/Berlin":19991217T143000
LOCATION:Internationales Begegnungs- und Informationszentrum
SUMMARY:Auftakttreffen zum Modellprojekt "Förderung der Chancengleichheit in sächsischen Unternehmen" (Fakultät für Wirtschaftswissenschaften\, Lehrstuhl für Personal und Führung)
DESCRIPTION:Das Auftakttreffen dient vor allem der Vorstellung des Modellprojektes und soll darüber hinaus ein erstes\nKennenlernen der Projektpartner untereinander ermöglichen.\n\nProf. Dr. Pawlowsky / Dr. Uta Wilkens / Gäste aus den teilnehmenden Unternehmen\nBuschmann Antje / Tel. 0371 531 - 5236 / antje.buschmann@wirtschaft.tu-chemnitz.de
ORGANIZER:MAILTO:anbu@hrz.tu-chemnitz.de
UID:862@www.tu-chemnitz.de
CREATED:19991115T153700Z
DTSTAMP:20210802T203245Z
END:VEVENT
END:VCALENDAR
