BEGIN:VCALENDAR
VERSION:2.0
PRODID:TU Chemnitz
METHOD:PUBLISH
X-WR-CALNAME:Veranstaltungen der TU Chemnitz
X-WR-TIMEZONE:Europe/Berlin
BEGIN:VEVENT
CLASS:PUBLIC
DTSTART;TZID="Europe/Berlin":20070524T171500
DTEND;TZID="Europe/Berlin":20070524T184500
LOCATION:Reichenhainer Str. 39\, Chemnitz
SUMMARY:Sitzung des FSR Phil (Philosophische Fakultät\, FSR Phil)
DESCRIPTION:Bericht von der StuRa-Sitzung. Bericht von der Sitzung des Fakultätsrates. Auswertung der Party vom 22. Mai.\nGäste sind wie immer willkommen!\nFSR Phil\nfsrphil@tu-chemnitz.de
ORGANIZER:MAILTO:gens@hrz.tu-chemnitz.de
UID:8608@www.tu-chemnitz.de
CREATED:20070507T173200Z
DTSTAMP:20210802T194939Z
END:VEVENT
END:VCALENDAR
