BEGIN:VCALENDAR
VERSION:2.0
PRODID:TU Chemnitz
METHOD:PUBLISH
X-WR-CALNAME:Veranstaltungen der TU Chemnitz
X-WR-TIMEZONE:Europe/Berlin
BEGIN:VEVENT
CLASS:PUBLIC
DTSTART;TZID="Europe/Berlin":20070515T113000
DTEND;TZID="Europe/Berlin":20070515T130000
LOCATION:Reichenhainer Str. 90\, Chemnitz (Zentr. Hörsaal- und Seminargebäude)
SUMMARY:"Ist die Universität ein Wirtschaftsbetrieb" (Philosophische Fakultät\, Professur für Politische Theorie und Ideengeschichte)
DESCRIPTION:Herr Dr. Pasternack ist Forschungsdirektor am Hochschulforschungsinstitut der Universität Halle-Wittenberg\nDr. Peer Pasternack
ORGANIZER:MAILTO:anja.braune@phil.tu-chemnitz.de
UID:8604@www.tu-chemnitz.de
CREATED:20070507T134700Z
DTSTAMP:20210802T194940Z
END:VEVENT
END:VCALENDAR
