BEGIN:VCALENDAR
VERSION:2.0
PRODID:TU Chemnitz
METHOD:PUBLISH
X-WR-CALNAME:Veranstaltungen der TU Chemnitz
X-WR-TIMEZONE:Europe/Berlin
BEGIN:VEVENT
CLASS:PUBLIC
DTSTART;TZID="Europe/Berlin":20070508T190000
DTEND;TZID="Europe/Berlin":20070508T203000
LOCATION:Rothaus e.V. (Lohstraße 2)
SUMMARY:naziterror stoppen - alternative freiräume schaffen (Rote Hochschulgruppe & Rothaus e.V.)
DESCRIPTION:Infoveranstaltung zum umgreifenden \, gewaltätigen Rechtsextremismus im Landkreis Mittweida.\nn.n.\nrhg-info@rothaus-chemnitz.de
ORGANIZER:MAILTO:moja@hrz.tu-chemnitz.de
UID:8602@www.tu-chemnitz.de
CREATED:20070507T121500Z
DTSTAMP:20210802T194934Z
END:VEVENT
END:VCALENDAR
