BEGIN:VCALENDAR
VERSION:2.0
PRODID:TU Chemnitz
METHOD:PUBLISH
X-WR-CALNAME:Veranstaltungen der TU Chemnitz
X-WR-TIMEZONE:Europe/Berlin
BEGIN:VEVENT
CLASS:PUBLIC
DTSTART;TZID="Europe/Berlin":20070511T133000
DTEND;TZID="Europe/Berlin":20070511T200000
LOCATION:Reichenhainer Str. 90\, Chemnitz (Zentr. Hörsaal- und Seminargebäude)
SUMMARY:kreati Fallstudienwettbewerb (VWI- Verband der deutschen Wirtschaftsingenieure Hochschulgruppe Chemnitz)
DESCRIPTION:Der vom VWI organisierten kreati-Fallstudienwettbewerb ermöglicht Studenten ihr Können bei der Bearbeitung von realen Problemstellungen eines Unternehmens zu zeigen und sich mit Gleichgesinnten zu messen. Außerdem können neue Kontakte geknüpft werden.\nhttp://www.kreatifallstudien.de/
ORGANIZER:MAILTO:verena.homering@vwi-chemnitz.de
UID:8598@www.tu-chemnitz.de
CREATED:20070505T131200Z
DTSTAMP:20210802T194933Z
END:VEVENT
END:VCALENDAR
