BEGIN:VCALENDAR
VERSION:2.0
PRODID:TU Chemnitz
METHOD:PUBLISH
X-WR-CALNAME:Veranstaltungen der TU Chemnitz
X-WR-TIMEZONE:Europe/Berlin
BEGIN:VEVENT
CLASS:PUBLIC
DTSTART;TZID="Europe/Berlin":20070613T171500
DTEND;TZID="Europe/Berlin":20070613T171500
LOCATION:Reichenhainer Str. 90\, Chemnitz (Zentr. Hörsaal- und Seminargebäude)
SUMMARY:Physikalisches Kolloquium: " Modeling and Simulation of Biological Macromolecules (Fakultät für Naturwissenschaften\, Institut für Physik)
DESCRIPTION:Fakultätsveranstaltung: Naturwissenschaftliche Modellierung und Simulation\nProf. Dr. Wolfhard Janke; Universität Leipzig\, Institut für Theoretische Physik\nProf. Dr. Günter Radons\, Tel. 531-33205
ORGANIZER:MAILTO:michaela.knierim@physik.tu-chemnitz.de
UID:8594@www.tu-chemnitz.de
CREATED:20070504T141100Z
DTSTAMP:20210802T194915Z
END:VEVENT
END:VCALENDAR
