BEGIN:VCALENDAR
VERSION:2.0
PRODID:TU Chemnitz
METHOD:PUBLISH
X-WR-CALNAME:Veranstaltungen der TU Chemnitz
X-WR-TIMEZONE:Europe/Berlin
BEGIN:VEVENT
CLASS:PUBLIC
DTSTART;TZID="Europe/Berlin":20070618T134500
DTEND;TZID="Europe/Berlin":20070619T180000
LOCATION:Str. der Nationen 62\, Chemnitz (Böttcher-Bau)
SUMMARY:Intensivkurs: "Einführung in LaTeX" (Universitätsrechenzentrum)
DESCRIPTION:Die Teilnehmer lernen die Möglichkeiten von LaTeX kennen\, einfache Dokumente selbständig zu erstellen und zu bearbeiten.\nDr. Wolfgang Riedel
ORGANIZER:MAILTO:claudia.junge@hrz.tu-chemnitz.de
UID:8591@www.tu-chemnitz.de
CREATED:20070504T113000Z
DTSTAMP:20210802T194915Z
END:VEVENT
END:VCALENDAR
