BEGIN:VCALENDAR
VERSION:2.0
PRODID:TU Chemnitz
METHOD:PUBLISH
X-WR-CALNAME:Veranstaltungen der TU Chemnitz
X-WR-TIMEZONE:Europe/Berlin
BEGIN:VEVENT
CLASS:PUBLIC
DTSTART;TZID="Europe/Berlin":20070512T150000
DTEND;TZID="Europe/Berlin":20070512T180000
LOCATION:Reichenhainer Str. 55\, Chemnitz (Mensa)
SUMMARY:Bundesligakonferenz
DESCRIPTION:alle neun Bundesligapartien in Konferenz..\nMeisterschaft\, UEFA Cup\, Abstieg Spannung garantiert
ORGANIZER:MAILTO:piek@hrz.tu-chemnitz.de
UID:8584@www.tu-chemnitz.de
CREATED:20070503T131300Z
DTSTAMP:20210802T194940Z
END:VEVENT
END:VCALENDAR
