BEGIN:VCALENDAR
VERSION:2.0
PRODID:TU Chemnitz
METHOD:PUBLISH
X-WR-CALNAME:Veranstaltungen der TU Chemnitz
X-WR-TIMEZONE:Europe/Berlin
BEGIN:VEVENT
CLASS:PUBLIC
DTSTART;TZID="Europe/Berlin":20070508T190000
DTEND;TZID="Europe/Berlin":20070508T230000
LOCATION:Reichenhainer Str. 55\, Chemnitz (Mensa)
SUMMARY:III. Campuspokermeisterschaft
DESCRIPTION:dritte TaC Pokerturnier...\nAnmeldungen am Montag und Dienstag\nTurnierbeginn 19:30
ORGANIZER:MAILTO:piek@hrz.tu-chemnitz.de
UID:8582@www.tu-chemnitz.de
CREATED:20070503T130800Z
DTSTAMP:20210802T194940Z
END:VEVENT
END:VCALENDAR
