BEGIN:VCALENDAR
VERSION:2.0
PRODID:TU Chemnitz
METHOD:PUBLISH
X-WR-CALNAME:Veranstaltungen der TU Chemnitz
X-WR-TIMEZONE:Europe/Berlin
BEGIN:VEVENT
CLASS:PUBLIC
DTSTART;TZID="Europe/Berlin":20070427T193000
DTEND;TZID="Europe/Berlin":20070427T230000
LOCATION:Reichenhainer Str. 55\, Chemnitz (Mensa)
SUMMARY:Bundesliga 
DESCRIPTION:Bochum gegen Schalke live\nEs geht um Abstieg und Meisterschaft..Wer holt die entscheidenen Punkte??
ORGANIZER:MAILTO:piek@hrz.tu-chemnitz.de
UID:8552@www.tu-chemnitz.de
CREATED:20070425T131100Z
DTSTAMP:20210802T195013Z
END:VEVENT
END:VCALENDAR
