BEGIN:VCALENDAR
VERSION:2.0
PRODID:TU Chemnitz
METHOD:PUBLISH
X-WR-CALNAME:Veranstaltungen der TU Chemnitz
X-WR-TIMEZONE:Europe/Berlin
BEGIN:VEVENT
CLASS:PUBLIC
DTSTART;TZID="Europe/Berlin":20070430T200000
DTEND;TZID="Europe/Berlin":20070430T200000
LOCATION:Reichenhainer Str. 55\, Chemnitz (Mensa)
SUMMARY:Tischtennis Doppelmeisterschaft
DESCRIPTION:Anmeldung im TaC...auch Mix Teams möglich\nWie immer gibt es super Preise zu gewinnen.
ORGANIZER:MAILTO:piek@hrz.tu-chemnitz.de
UID:8551@www.tu-chemnitz.de
CREATED:20070425T125900Z
DTSTAMP:20210802T195021Z
END:VEVENT
END:VCALENDAR
